BEGIN:VCALENDAR
VERSION:2.0
PRODID:-//Kansas Sons of the American Revolution - ECPv5.16.2.1//NONSGML v1.0//EN
CALSCALE:GREGORIAN
METHOD:PUBLISH
X-WR-CALNAME:Kansas Sons of the American Revolution
X-ORIGINAL-URL:https://ksssar.org
X-WR-CALDESC:Events for Kansas Sons of the American Revolution
BEGIN:VTIMEZONE
TZID:America/Chicago
BEGIN:DAYLIGHT
TZOFFSETFROM:-0600
TZOFFSETTO:-0500
TZNAME:CDT
DTSTART:20230312T080000
END:DAYLIGHT
BEGIN:STANDARD
TZOFFSETFROM:-0500
TZOFFSETTO:-0600
TZNAME:CST
DTSTART:20231105T070000
END:STANDARD
END:VTIMEZONE
BEGIN:VEVENT
DTSTART;VALUE=DATE:20230204
DTEND;VALUE=DATE:20230205
DTSTAMP:20260419T124556
CREATED:20221130T194157Z
LAST-MODIFIED:20221130T194157Z
UID:1522-1675468800-1675555199@ksssar.org
SUMMARY:February BOG
DESCRIPTION:February BOG Meeting
URL:https://ksssar.org/event/february-bog-2023/
END:VEVENT
END:VCALENDAR