BEGIN:VCALENDAR
VERSION:2.0
PRODID:-//Kansas Sons of the American Revolution - ECPv5.16.2.1//NONSGML v1.0//EN
CALSCALE:GREGORIAN
METHOD:PUBLISH
X-WR-CALNAME:Kansas Sons of the American Revolution
X-ORIGINAL-URL:https://ksssar.org
X-WR-CALDESC:Events for Kansas Sons of the American Revolution
BEGIN:VTIMEZONE
TZID:America/Chicago
BEGIN:DAYLIGHT
TZOFFSETFROM:-0600
TZOFFSETTO:-0500
TZNAME:CDT
DTSTART:20220313T080000
END:DAYLIGHT
BEGIN:STANDARD
TZOFFSETFROM:-0500
TZOFFSETTO:-0600
TZNAME:CST
DTSTART:20221106T070000
END:STANDARD
END:VTIMEZONE
BEGIN:VEVENT
DTSTART;VALUE=DATE:20220318
DTEND;VALUE=DATE:20220320
DTSTAMP:20260419T124207
CREATED:20220207T222203Z
LAST-MODIFIED:20220207T222321Z
UID:1464-1647561600-1647734399@ksssar.org
SUMMARY:State Annual Conference - 2022
DESCRIPTION:Registration Form \nSchedule of Events \nFriday\, March 18\, 2022\n5:00 p.m. Registration begins – Greyhound Hall of Fame 407 S. Buckeye\, Abilene\, KS\n6:30 p.m. Buffet – Speakers: Mayor Dee Marshall & Mary Jean Eisenhower \nSaturday\, March 19\, 2022\n7:30 a.m. Breakfast for those at hotel\n8:00 a.m. Registration Table Greyhound HOF\n9:00 a.m. Business Session at Greyhound HOF\n10:20-11:30 a.m. Memorial Service at St. Andrew Catholic Church 311 S. Buckeye Avenue\, Abilene\, KS\n10:00 a.m. Business Meeting and Election of Officers at Greyhound HOF\nLadies Auxiliary Meeting (TBD)\n11:00 a.m. Poster and Brochure Judging–Greyhound HOF\n11:30 a.m. Color Guard Muster and Rehearsal for Luncheon–Greyhound HOF\n12:00 p.m. Youth Awards Luncheon at Greyhound HOF\nKansas State SAR Muster\nContest Presentations\nAwards Ceremony\n2:00 p.m. Workshops at Greyhound HOF\nChapter Officers\nCommittee Chairmen\nColor Guard\nSchedule for March 20\, 2021 (Continued)\nGenealogy/250th Anniversary\n2:00 p.m. Women’s tour of the Seelye Mansion ($10)\n5:00 p.m. Color Guard Rehearsal\n5:30 p.m. Reception & Cash Bar Opens\n6:00 p.m. Receiving Line\n6:00 p.m. Banquet
URL:https://ksssar.org/event/state-annual-conference-2022/
END:VEVENT
END:VCALENDAR